BEGIN:VCALENDAR
VERSION:2.0
PRODID:-//Plone.org//NONSGML plone.app.event//EN
X-WR-TIMEZONE:Europe/Berlin
BEGIN:VEVENT
SUMMARY:Ecosystem assets and services affected by climate change
DTSTART;TZID=GMT+0;VALUE=DATE-TIME:20190615T090000
DTEND;TZID=GMT+0;VALUE=DATE-TIME:20190615T173000
DTSTAMP;VALUE=DATE-TIME:20260422T194844Z
UID:3fa4d019b663439980ed6bf778a6448e@www.isprambiente.gov.it
CREATED;VALUE=DATE-TIME:20190610T114644Z
LAST-MODIFIED;VALUE=DATE-TIME:20210115T140702Z
LOCATION:Valdieri (CN)
URL:https://www.isprambiente.gov.it/en/archive/news-and-other-events/ispra
 -news/2019/06/ecosystem-assets-and-services-affected-by-climate-change
END:VEVENT
END:VCALENDAR
