BEGIN:VCALENDAR
VERSION:2.0
PRODID:-//Plone.org//NONSGML plone.app.event//EN
X-WR-TIMEZONE:Europe/Berlin
BEGIN:VEVENT
SUMMARY:From the coast to the abyss
DTSTART;TZID=GMT+0;VALUE=DATE-TIME:20190608T100000
DTEND;TZID=GMT+0;VALUE=DATE-TIME:20190608T180000
DTSTAMP;VALUE=DATE-TIME:20260422T182215Z
UID:83333a27603d46068251a478412b10b2@www.isprambiente.gov.it
CREATED;VALUE=DATE-TIME:20190603T132648Z
DESCRIPTION:Beaty and fragility of an  underwater world
LAST-MODIFIED;VALUE=DATE-TIME:20210115T140707Z
LOCATION:Cannes (France)
URL:https://www.isprambiente.gov.it/en/archive/news-and-other-events/ispra
 -news/2019/06/from-the-coast-to-the-abyss
END:VEVENT
END:VCALENDAR
