BEGIN:VCALENDAR
VERSION:2.0
PRODID:-//Plone.org//NONSGML plone.app.event//EN
X-WR-TIMEZONE:Europe/Berlin
BEGIN:VEVENT
SUMMARY:MEDSEALITTER: final event
DTSTART;TZID=GMT+0;VALUE=DATE-TIME:20190611T090000
DTEND;TZID=GMT+0;VALUE=DATE-TIME:20190612T140000
DTSTAMP;VALUE=DATE-TIME:20260423T114048Z
UID:5a73092828124dfe8256126a1d6635fc@www.isprambiente.gov.it
CREATED;VALUE=DATE-TIME:20190604T230150Z
DESCRIPTION:International Conference
LAST-MODIFIED;VALUE=DATE-TIME:20210115T140712Z
LOCATION:Società Geografica Italiana \, Villa Celimontanta\, Rome
URL:https://www.isprambiente.gov.it/en/archive/news-and-other-events/ispra
 -news/2019/06/medsealitter-final-event
END:VEVENT
END:VCALENDAR
