BEGIN:VCALENDAR
VERSION:2.0
PRODID:-//Plone.org//NONSGML plone.app.event//EN
X-WR-TIMEZONE:Europe/Berlin
BEGIN:VEVENT
SUMMARY:New approaches for the quality assessment of the marine environmen
 t in the context of European directives
DTSTART;TZID=GMT+0;VALUE=DATE-TIME:20190620T000000
DTEND;TZID=GMT+0;VALUE=DATE-TIME:20190620T000000
DTSTAMP;VALUE=DATE-TIME:20260422T182226Z
UID:9e679107df724669bffeb38e2f721d0a@www.isprambiente.gov.it
CREATED;VALUE=DATE-TIME:20190612T142112Z
LAST-MODIFIED;VALUE=DATE-TIME:20210115T140711Z
LOCATION:Cagliari\, Cittadella dei Musei
URL:https://www.isprambiente.gov.it/en/archive/news-and-other-events/ispra
 -news/2019/06/new-approaches-for-the-quality-assessment-of-the-marine-envi
 ronment-in-the-context-of-european-directives
END:VEVENT
END:VCALENDAR
