BEGIN:VCALENDAR
VERSION:2.0
PRODID:-//Plone.org//NONSGML plone.app.event//EN
X-WR-TIMEZONE:Europe/Berlin
BEGIN:VEVENT
SUMMARY:Research day
DTSTART;TZID=GMT+0;VALUE=DATE-TIME:20190610T130000
DTEND;TZID=GMT+0;VALUE=DATE-TIME:20190611T133000
DTSTAMP;VALUE=DATE-TIME:20260422T182150Z
UID:982638487117479896fa5546a18a5fe8@www.isprambiente.gov.it
CREATED;VALUE=DATE-TIME:20190530T120536Z
LAST-MODIFIED;VALUE=DATE-TIME:20210115T140707Z
LOCATION:Pisa
URL:https://www.isprambiente.gov.it/en/archive/news-and-other-events/ispra
 -news/2019/06/research-day
END:VEVENT
END:VCALENDAR
