BEGIN:VCALENDAR
VERSION:2.0
PRODID:-//Plone.org//NONSGML plone.app.event//EN
X-WR-TIMEZONE:Europe/Berlin
BEGIN:VEVENT
SUMMARY:Risk awareness and safety culture
DTSTART;TZID=GMT+0;VALUE=DATE-TIME:20190605T100000
DTEND;TZID=GMT+0;VALUE=DATE-TIME:20190605T183000
DTSTAMP;VALUE=DATE-TIME:20260422T182215Z
UID:b596ee1d829d4c6d8526292f4931b5b9@www.isprambiente.gov.it
CREATED;VALUE=DATE-TIME:20190530T101409Z
LAST-MODIFIED;VALUE=DATE-TIME:20210115T140702Z
LOCATION:Isola Polvese\, Lago Trasimeno
URL:https://www.isprambiente.gov.it/en/archive/news-and-other-events/ispra
 -news/2019/06/risk-awareness-and-safety-culture
END:VEVENT
END:VCALENDAR
