BEGIN:VCALENDAR
VERSION:2.0
PRODID:-//Plone.org//NONSGML plone.app.event//EN
X-WR-TIMEZONE:Europe/Berlin
BEGIN:VEVENT
SUMMARY:State of Environment 2019 in Piemonte: report
DTSTART;TZID=GMT+0;VALUE=DATE-TIME:20190620T090000
DTEND;TZID=GMT+0;VALUE=DATE-TIME:20190620T130000
DTSTAMP;VALUE=DATE-TIME:20260422T194855Z
UID:e514a727afee4f7f901365fa2edf4a36@www.isprambiente.gov.it
CREATED;VALUE=DATE-TIME:20190617T101816Z
LAST-MODIFIED;VALUE=DATE-TIME:20210115T140703Z
LOCATION:Torino
URL:https://www.isprambiente.gov.it/en/archive/news-and-other-events/ispra
 -news/2019/06/state-of-environment-2019-in-piemonte-report
END:VEVENT
END:VCALENDAR
