BEGIN:VCALENDAR
VERSION:2.0
PRODID:-//Plone.org//NONSGML plone.app.event//EN
X-WR-TIMEZONE:Europe/Berlin
BEGIN:VEVENT
SUMMARY:Sustainable development: education\, research and innovation in th
 e agri-food field for the agenda 2030
DTSTART;TZID=GMT+0;VALUE=DATE-TIME:20190617T140000
DTEND;TZID=GMT+0;VALUE=DATE-TIME:20190618T173000
DTSTAMP;VALUE=DATE-TIME:20260422T182226Z
UID:18083ef1216d440aa0d1b9f855c8c45e@www.isprambiente.gov.it
CREATED;VALUE=DATE-TIME:20190531T152336Z
LAST-MODIFIED;VALUE=DATE-TIME:20210115T140707Z
LOCATION:Rome
URL:https://www.isprambiente.gov.it/en/archive/news-and-other-events/ispra
 -news/2019/06/sustainable-development-education-research-and-innovation-in
 -the-agri-food-field-for-the-2030-agenda
END:VEVENT
END:VCALENDAR
