BEGIN:VCALENDAR
VERSION:2.0
PRODID:-//Plone.org//NONSGML plone.app.event//EN
X-WR-TIMEZONE:Europe/Berlin
BEGIN:VEVENT
SUMMARY:Tevere Nostrum - Safe. Clean. A river National park
DTSTART;TZID=GMT+0;VALUE=DATE-TIME:20190617T100000
DTEND;TZID=GMT+0;VALUE=DATE-TIME:20190617T130000
DTSTAMP;VALUE=DATE-TIME:20260422T195049Z
UID:39d668054d994f2da810067165de4209@www.isprambiente.gov.it
CREATED;VALUE=DATE-TIME:20190612T110042Z
LAST-MODIFIED;VALUE=DATE-TIME:20210115T140710Z
LOCATION:Rome\, Sala Polifunzionale della Presidenza del Consiglio dei Min
 istri
URL:https://www.isprambiente.gov.it/en/archive/news-and-other-events/ispra
 -news/2019/06/tevere-nostrum-safe.-clean.-a-river-national-park
END:VEVENT
END:VCALENDAR
