BEGIN:VCALENDAR
VERSION:2.0
PRODID:-//Plone.org//NONSGML plone.app.event//EN
X-WR-TIMEZONE:Europe/Berlin
BEGIN:VEVENT
SUMMARY:The Future of Food
DTSTART;TZID=GMT+0;VALUE=DATE-TIME:20190610T072000
DTEND;TZID=GMT+0;VALUE=DATE-TIME:20190611T072000
DTSTAMP;VALUE=DATE-TIME:20260422T182215Z
UID:96c8406f350d4b37ad2d8122ed86d019@www.isprambiente.gov.it
CREATED;VALUE=DATE-TIME:20190610T092421Z
LAST-MODIFIED;VALUE=DATE-TIME:20210115T140710Z
LOCATION:Rome
URL:https://www.isprambiente.gov.it/en/archive/news-and-other-events/ispra
 -news/2019/06/the-future-of-food
END:VEVENT
END:VCALENDAR
