BEGIN:VCALENDAR
VERSION:2.0
PRODID:-//Plone.org//NONSGML plone.app.event//EN
X-WR-TIMEZONE:Europe/Berlin
BEGIN:VEVENT
SUMMARY:VI edition EcoForum - National Conference on waste circular econom
 y
DTSTART;TZID=GMT+0;VALUE=DATE-TIME:20190626T093000
DTEND;TZID=GMT+0;VALUE=DATE-TIME:20190627T173000
DTSTAMP;VALUE=DATE-TIME:20260422T182756Z
UID:cc5b91b3295f423e932e6fd7e42d4f00@www.isprambiente.gov.it
CREATED;VALUE=DATE-TIME:20190614T125328Z
DESCRIPTION:The year 2019 is the decisive for overcoming the waste emergen
 cy and to start effectively the circular economy in Italy. There are exper
 iences\, knowledge\, potential and the right motivations but urgently need
  to remove the barriers still present today. The reception of the European
  Directive\, the approval of ministerial decrees\, the strengthening of co
 nsortium systems\, the building of new plants and the construction of recy
 cled product markets must be the priority of the national political agenda
 . On June 26th in the session "Zero waste\, thousand plants" will particip
 ate the Director General of ISPRA\, Alessandro Bratti.
LAST-MODIFIED;VALUE=DATE-TIME:20210115T140711Z
LOCATION:Rome
URL:https://www.isprambiente.gov.it/en/archive/news-and-other-events/ispra
 -news/2019/06/vi-edition-ecoforum-national-conference-on-waste-circular-ec
 onomy
END:VEVENT
END:VCALENDAR
