BEGIN:VCALENDAR
VERSION:2.0
PRODID:-//Plone.org//NONSGML plone.app.event//EN
X-WR-TIMEZONE:Europe/Berlin
BEGIN:VEVENT
SUMMARY:ISPRA participates at the World Conference of Science Journalists 
 (WCSJ2019) in Lausanne 
DTSTART;TZID=GMT+0;VALUE=DATE-TIME:20190701T090000
DTEND;TZID=GMT+0;VALUE=DATE-TIME:20190705T170000
DTSTAMP;VALUE=DATE-TIME:20260423T122240Z
UID:9cc4b32441d14bf8aef129b2bed6b25e@www.isprambiente.gov.it
CREATED;VALUE=DATE-TIME:20190701T163612Z
DESCRIPTION: 
LAST-MODIFIED;VALUE=DATE-TIME:20210115T140742Z
LOCATION:Lausanne (Swizterland)
URL:https://www.isprambiente.gov.it/en/archive/news-and-other-events/ispra
 -news/2019/07/ispra-participates-at-the-world-conference-of-science-wcsj20
 19-journalists-in-lausanne
END:VEVENT
END:VCALENDAR
