BEGIN:VCALENDAR
VERSION:2.0
PRODID:-//Plone.org//NONSGML plone.app.event//EN
X-WR-TIMEZONE:Europe/Berlin
BEGIN:VEVENT
SUMMARY:Ispra presents the INDICIT documentary at the SiciliAmbiente Festi
 val
DTSTART;TZID=GMT+0;VALUE=DATE-TIME:20190712T000000
DTEND;TZID=GMT+0;VALUE=DATE-TIME:20190712T000000
DTSTAMP;VALUE=DATE-TIME:20260423T172531Z
UID:9eb262ca79e54baa85afde164645e231@www.isprambiente.gov.it
CREATED;VALUE=DATE-TIME:20190704T134654Z
LAST-MODIFIED;VALUE=DATE-TIME:20210115T140743Z
LOCATION:San Vito Lo Capo
URL:https://www.isprambiente.gov.it/en/archive/news-and-other-events/ispra
 -news/2019/07/ispra-presents-the-indicit-documentary-at-the-siciliambiente
 -festival
END:VEVENT
END:VCALENDAR
