BEGIN:VCALENDAR
VERSION:2.0
PRODID:-//Plone.org//NONSGML plone.app.event//EN
X-WR-TIMEZONE:Europe/Berlin
BEGIN:VEVENT
SUMMARY:MIBAC opens at the territories
DTSTART;TZID=GMT+0;VALUE=DATE-TIME:20190704T100000
DTEND;TZID=GMT+0;VALUE=DATE-TIME:20190704T183000
DTSTAMP;VALUE=DATE-TIME:20260423T134652Z
UID:5486a9e06ce6451781c34f08423886a5@www.isprambiente.gov.it
CREATED;VALUE=DATE-TIME:20190704T094420Z
DESCRIPTION:Series of meetings with the Study Commission for the complex m
 anagement of cultural heritage through museum networks and territorial sys
 tems.
LAST-MODIFIED;VALUE=DATE-TIME:20210115T140743Z
LOCATION:Treia (MC)
URL:https://www.isprambiente.gov.it/en/archive/news-and-other-events/ispra
 -news/2019/07/mibac-opens-at-the-territories
END:VEVENT
END:VCALENDAR
