BEGIN:VCALENDAR
VERSION:2.0
PRODID:-//Plone.org//NONSGML plone.app.event//EN
X-WR-TIMEZONE:Europe/Berlin
BEGIN:VEVENT
SUMMARY:Monitoring of biodiversity in the Alpine area: strategies and pers
 pectives of harmonization
DTSTART;TZID=GMT+0;VALUE=DATE-TIME:20190712T093000
DTEND;TZID=GMT+0;VALUE=DATE-TIME:20190712T130000
DTSTAMP;VALUE=DATE-TIME:20260423T163253Z
UID:3a7b57b0314d4d8aa86a51ac800a5a7a@www.isprambiente.gov.it
CREATED;VALUE=DATE-TIME:20190711T101412Z
LAST-MODIFIED;VALUE=DATE-TIME:20210115T140744Z
LOCATION:Belluno
URL:https://www.isprambiente.gov.it/en/archive/news-and-other-events/ispra
 -news/2019/07/monitoring-of-biodiversity-in-the-alpine-area-strategies-and
 -perspectives-of-harmonization
END:VEVENT
END:VCALENDAR
