BEGIN:VCALENDAR
VERSION:2.0
PRODID:-//Plone.org//NONSGML plone.app.event//EN
X-WR-TIMEZONE:Europe/Berlin
BEGIN:VEVENT
SUMMARY:Presentation of Ecomafia report 2019
DTSTART;TZID=GMT+0;VALUE=DATE-TIME:20190704T093000
DTEND;TZID=GMT+0;VALUE=DATE-TIME:20190704T130000
DTSTAMP;VALUE=DATE-TIME:20260423T125219Z
UID:ee129edb34b54f83be1316b893933169@www.isprambiente.gov.it
CREATED;VALUE=DATE-TIME:20190702T125424Z
DESCRIPTION:Rome\, 4 july     The stories and numbers of environmental cri
 me in Italy.   The research for over twenty-five years has been carried ou
 t by  Legambiente  in cooperation with all law enforcement agencies (Anti
 -Mafia Investigation Directorate\, Carabinieri\, Finance Guard\, Italian P
 olice\, Forestry Corps of Regions with special statute)\, with the Harbor 
 Offices and other judicial police bodies such as Border agencies. At the 
 meeting will participate Alessandro Bratti\, dg Ispra.
LAST-MODIFIED;VALUE=DATE-TIME:20210115T140743Z
LOCATION:Rome
URL:https://www.isprambiente.gov.it/en/archive/news-and-other-events/ispra
 -news/2019/07/presentation-of-ecomafia-report-2019
END:VEVENT
END:VCALENDAR
