BEGIN:VCALENDAR
VERSION:2.0
PRODID:-//Plone.org//NONSGML plone.app.event//EN
X-WR-TIMEZONE:Europe/Berlin
BEGIN:VEVENT
SUMMARY:The circolar soil. A new culture of remediation for the urban rege
 neration
DTSTART;TZID=GMT+0;VALUE=DATE-TIME:20190708T093000
DTEND;TZID=GMT+0;VALUE=DATE-TIME:20190708T133000
DTSTAMP;VALUE=DATE-TIME:20260423T122628Z
UID:dab0c97f8f344890b45c9ddbdfca878e@www.isprambiente.gov.it
CREATED;VALUE=DATE-TIME:20190624T113239Z
LAST-MODIFIED;VALUE=DATE-TIME:20210115T140746Z
LOCATION:Milano
URL:https://www.isprambiente.gov.it/en/archive/news-and-other-events/ispra
 -news/2019/07/the-circolar-soil.-a-new-culture-of-remediation-for-the-urba
 n-regeneration
END:VEVENT
END:VCALENDAR
