BEGIN:VCALENDAR
VERSION:2.0
PRODID:-//Plone.org//NONSGML plone.app.event//EN
X-WR-TIMEZONE:Europe/Berlin
BEGIN:VEVENT
SUMMARY:The earthquake in Molise: between science and popular suggestions 
 from the Sant’Anna 1805 earthquake until to today
DTSTART;TZID=GMT+0;VALUE=DATE-TIME:20190719T090000
DTEND;TZID=GMT+0;VALUE=DATE-TIME:20190719T140000
DTSTAMP;VALUE=DATE-TIME:20260423T172833Z
UID:d9682e31c05a4d66bc3b3db5350a444b@www.isprambiente.gov.it
CREATED;VALUE=DATE-TIME:20190708T113830Z
LAST-MODIFIED;VALUE=DATE-TIME:20210115T140744Z
URL:https://www.isprambiente.gov.it/en/archive/news-and-other-events/ispra
 -news/2019/07/the-earthquake-in-molise-between-science-and-popular-suggest
 ions-from-the-sant2019anna-1805-earthquake-until-to-today
END:VEVENT
END:VCALENDAR
