BEGIN:VCALENDAR
VERSION:2.0
PRODID:-//Plone.org//NONSGML plone.app.event//EN
X-WR-TIMEZONE:Europe/Berlin
BEGIN:VEVENT
SUMMARY:What research for the electrical system of tomorrow
DTSTART;TZID=GMT+0;VALUE=DATE-TIME:20190711T093000
DTEND;TZID=GMT+0;VALUE=DATE-TIME:20190711T170000
DTSTAMP;VALUE=DATE-TIME:20260423T134848Z
UID:9694a6f799064c1cb6197c9e618b8b1f@www.isprambiente.gov.it
CREATED;VALUE=DATE-TIME:20190711T144728Z
LAST-MODIFIED;VALUE=DATE-TIME:20210115T140745Z
LOCATION:Milano
URL:https://www.isprambiente.gov.it/en/archive/news-and-other-events/ispra
 -news/2019/07/what-research-for-the-electrical-system-of-tomorrow
END:VEVENT
END:VCALENDAR
