BEGIN:VCALENDAR
VERSION:2.0
PRODID:-//Plone.org//NONSGML plone.app.event//EN
X-WR-TIMEZONE:Europe/Berlin
BEGIN:VEVENT
SUMMARY:Sustainable diet for human health and the planet: applicability an
 d criticality of the document prepared by the EAT-Lancet Commission
DTSTART;TZID=GMT+0;VALUE=DATE-TIME:20191001T100000
DTEND;TZID=GMT+0;VALUE=DATE-TIME:20191001T130000
DTSTAMP;VALUE=DATE-TIME:20260423T044539Z
UID:d1ea47af2b4c4f219e8efece632e5a1e@www.isprambiente.gov.it
CREATED;VALUE=DATE-TIME:20190919T101642Z
LAST-MODIFIED;VALUE=DATE-TIME:20210115T141406Z
LOCATION:Rome\, Università Tor Vergata
URL:https://www.isprambiente.gov.it/en/archive/news-and-other-events/ispra
 -news/2019/09/sustainable-diet-for-human-health-and-the-planet-applicabili
 ty-and-criticality-of-the-document-prepared-by-the-eat-lancet-commission
END:VEVENT
END:VCALENDAR
