BEGIN:VCALENDAR
VERSION:2.0
PRODID:-//Plone.org//NONSGML plone.app.event//EN
X-WR-TIMEZONE:Europe/Berlin
BEGIN:VEVENT
SUMMARY:Reclamation of contaminated sites
DTSTART;TZID=GMT+0;VALUE=DATE-TIME:20191122T100000
DTEND;TZID=GMT+0;VALUE=DATE-TIME:20191122T133000
DTSTAMP;VALUE=DATE-TIME:20260423T092340Z
UID:f56320195f014d4da769599c5dbbec84@www.isprambiente.gov.it
CREATED;VALUE=DATE-TIME:20191118T104155Z
LAST-MODIFIED;VALUE=DATE-TIME:20210115T141517Z
URL:https://www.isprambiente.gov.it/en/archive/news-and-other-events/ispra
 -news/2019/11/reclamation-of-contaminated-sites
END:VEVENT
END:VCALENDAR
