BEGIN:VCALENDAR
VERSION:2.0
PRODID:-//Plone.org//NONSGML plone.app.event//EN
X-WR-TIMEZONE:Europe/Berlin
BEGIN:VEVENT
SUMMARY:Seminar study: authorization procedure for 5G mobile telephone sys
 tems
DTSTART;TZID=GMT+0;VALUE=DATE-TIME:20191128T100000
DTEND;TZID=GMT+0;VALUE=DATE-TIME:20191128T163000
DTSTAMP;VALUE=DATE-TIME:20260423T091615Z
UID:dfb5e056cb3540cf9ee3975467586c53@www.isprambiente.gov.it
CREATED;VALUE=DATE-TIME:20191118T173818Z
LAST-MODIFIED;VALUE=DATE-TIME:20210115T141517Z
LOCATION:ISPRA\, via Vitaliano Brancati 48\, Roma
URL:https://www.isprambiente.gov.it/en/archive/news-and-other-events/ispra
 -news/2019/11/seminar-study-authorization-procedure-for-5g-mobile-telephon
 e-systems
END:VEVENT
END:VCALENDAR
