BEGIN:VCALENDAR
VERSION:2.0
PRODID:-//Plone.org//NONSGML plone.app.event//EN
X-WR-TIMEZONE:Europe/Berlin
BEGIN:VEVENT
SUMMARY:Soil and agriculture: from research to action
DTSTART;TZID=GMT+0;VALUE=DATE-TIME:20191203T090000
DTEND;TZID=GMT+0;VALUE=DATE-TIME:20191203T130000
DTSTAMP;VALUE=DATE-TIME:20260423T105213Z
UID:f557582dfbb74992bdb1e66b4eae610e@www.isprambiente.gov.it
CREATED;VALUE=DATE-TIME:20191129T152605Z
LAST-MODIFIED;VALUE=DATE-TIME:20210115T141518Z
LOCATION:Rome\, Chamber of Deputy
URL:https://www.isprambiente.gov.it/en/archive/news-and-other-events/ispra
 -news/2019/11/soil-and-agriculture-from-research-to-action
END:VEVENT
END:VCALENDAR
