BEGIN:VCALENDAR
VERSION:2.0
PRODID:-//Plone.org//NONSGML plone.app.event//EN
X-WR-TIMEZONE:Europe/Berlin
BEGIN:VEVENT
SUMMARY:Soil and the SDGs: Challenges and need for action
DTSTART;TZID=GMT+0;VALUE=DATE-TIME:20191125T000000
DTEND;TZID=GMT+0;VALUE=DATE-TIME:20191125T000000
DTSTAMP;VALUE=DATE-TIME:20260423T105009Z
UID:0be75b4b247d45a39c3e0bb7d3151e9e@www.isprambiente.gov.it
CREATED;VALUE=DATE-TIME:20191121T132017Z
LAST-MODIFIED;VALUE=DATE-TIME:20210115T141518Z
LOCATION:Bruxelles
URL:https://www.isprambiente.gov.it/en/archive/news-and-other-events/ispra
 -news/2019/11/soil-and-the-sdgs-challenges-and-need-for-action
END:VEVENT
END:VCALENDAR
