BEGIN:VCALENDAR
VERSION:2.0
PRODID:-//Plone.org//NONSGML plone.app.event//EN
X-WR-TIMEZONE:Europe/Berlin
BEGIN:VEVENT
SUMMARY:Transparency Day
DTSTART;TZID=GMT+0;VALUE=DATE-TIME:20191125T093000
DTEND;TZID=GMT+0;VALUE=DATE-TIME:20191125T130000
DTSTAMP;VALUE=DATE-TIME:20260423T091459Z
UID:eeb204fd0c344eb7b891324bd6b8b8c8@www.isprambiente.gov.it
CREATED;VALUE=DATE-TIME:20191120T153014Z
LAST-MODIFIED;VALUE=DATE-TIME:20210115T141520Z
LOCATION:Rome
URL:https://www.isprambiente.gov.it/en/archive/news-and-other-events/ispra
 -news/2019/11/transparency-day
END:VEVENT
END:VCALENDAR
