BEGIN:VCALENDAR
VERSION:2.0
PRODID:-//Plone.org//NONSGML plone.app.event//EN
X-WR-TIMEZONE:Europe/Berlin
BEGIN:VEVENT
SUMMARY:Twenty years of molecular biology to support the Washington Conven
 tion
DTSTART;TZID=Europe/Berlin;VALUE=DATE-TIME:20191113T000000
DTEND;TZID=Europe/Berlin;VALUE=DATE-TIME:20191113T000000
DTSTAMP;VALUE=DATE-TIME:20260423T021348Z
UID:f358a59e14454d0ebdd7f8026ac0c7b1@www.isprambiente.gov.it
CREATED;VALUE=DATE-TIME:20191022T093950Z
LAST-MODIFIED;VALUE=DATE-TIME:20250120T134625Z
LOCATION:Roma\, Comando Unità Forestali Ambientali e Agroalimentari dell
 ’Arma dei Carabinieri
URL:https://www.isprambiente.gov.it/en/archive/news-and-other-events/ispra
 -news/2019/11/twenty-years-of-molecular-biology-to-support-the-washington-
 convention
END:VEVENT
BEGIN:VTIMEZONE
TZID:Europe/Berlin
X-LIC-LOCATION:Europe/Berlin
BEGIN:STANDARD
DTSTART;VALUE=DATE-TIME:20191027T020000
TZNAME:CET
TZOFFSETFROM:+0200
TZOFFSETTO:+0100
END:STANDARD
END:VTIMEZONE
END:VCALENDAR
