BEGIN:VCALENDAR
VERSION:2.0
PRODID:-//Plone.org//NONSGML plone.app.event//EN
X-WR-TIMEZONE:Europe/Berlin
BEGIN:VEVENT
SUMMARY:XI National Congresss Legambiente
DTSTART;TZID=GMT+0;VALUE=DATE-TIME:20191122T000000
DTEND;TZID=GMT+0;VALUE=DATE-TIME:20191124T000000
DTSTAMP;VALUE=DATE-TIME:20260423T092425Z
UID:a5c183a25e69420cabe994d3db4f332e@www.isprambiente.gov.it
CREATED;VALUE=DATE-TIME:20191121T110035Z
LAST-MODIFIED;VALUE=DATE-TIME:20210115T141520Z
LOCATION:Napoli
URL:https://www.isprambiente.gov.it/en/archive/news-and-other-events/ispra
 -news/2019/11/xi-national-congresss-legaambiente
END:VEVENT
END:VCALENDAR
