BEGIN:VCALENDAR
VERSION:2.0
PRODID:-//Plone.org//NONSGML plone.app.event//EN
X-WR-TIMEZONE:Europe/Berlin
BEGIN:VEVENT
SUMMARY:Agriculture and beekeeping at the service of society
DTSTART;TZID=GMT+0;VALUE=DATE-TIME:20191212T093000
DTEND;TZID=GMT+0;VALUE=DATE-TIME:20191212T130000
DTSTAMP;VALUE=DATE-TIME:20260423T142013Z
UID:1e620cb277e94b3384b77ec480b6315b@www.isprambiente.gov.it
CREATED;VALUE=DATE-TIME:20191204T144738Z
LAST-MODIFIED;VALUE=DATE-TIME:20210115T141546Z
LOCATION:Bracciano (RM)
URL:https://www.isprambiente.gov.it/en/archive/news-and-other-events/ispra
 -news/2019/12/agriculture-and-beekeeping-at-the-service-of-society
END:VEVENT
END:VCALENDAR
