BEGIN:VCALENDAR
VERSION:2.0
PRODID:-//Plone.org//NONSGML plone.app.event//EN
X-WR-TIMEZONE:Europe/Berlin
BEGIN:VEVENT
SUMMARY:Cop21- Conference of the Parties to the Barcelona Convention for t
 he Protection of the Marine Environment and Coastal Regions of the Mediter
 ranean
DTSTART;TZID=GMT+0;VALUE=DATE-TIME:20191202T000000
DTEND;TZID=GMT+0;VALUE=DATE-TIME:20191205T000000
DTSTAMP;VALUE=DATE-TIME:20260423T113432Z
UID:f288f5a6d45c41d38bd6855905b901b6@www.isprambiente.gov.it
CREATED;VALUE=DATE-TIME:20191127T102653Z
LAST-MODIFIED;VALUE=DATE-TIME:20210115T141547Z
LOCATION:Napoli
URL:https://www.isprambiente.gov.it/en/archive/news-and-other-events/ispra
 -news/2019/12/cop21-conference-of-the-parties-to-the-barcelona-convention-
 for-the-protection-of-the-marine-environment-and-coastal-regions-of-the-me
 diterranean
END:VEVENT
END:VCALENDAR
