BEGIN:VCALENDAR
VERSION:2.0
PRODID:-//Plone.org//NONSGML plone.app.event//EN
X-WR-TIMEZONE:Europe/Berlin
BEGIN:VEVENT
SUMMARY: Island of Sustainability
DTSTART;TZID=GMT+0;VALUE=DATE-TIME:20191204T000000
DTEND;TZID=GMT+0;VALUE=DATE-TIME:20191207T000000
DTSTAMP;VALUE=DATE-TIME:20260423T144529Z
UID:5e07830452af4fd6b775367e65c33081@www.isprambiente.gov.it
CREATED;VALUE=DATE-TIME:20191125T104710Z
DESCRIPTION:Rome\, 4-7 december 2019    Island of Sustainability is a nati
 onal project carried oout by the    Associazione of Social Promotion    
  in which institutions\, research institutes and companies will meet to ed
 ucate and inform new generations on sustainable development issues. The ac
 tivities are adressed tostudents of all levels\, families and sector techn
 icians. The Rome event is open and free\, all registration is recommended\
 , although not mandatory.
LAST-MODIFIED;VALUE=DATE-TIME:20210115T141548Z
LOCATION:Rome
URL:https://www.isprambiente.gov.it/en/archive/news-and-other-events/ispra
 -news/2019/12/island-of-sustainability
END:VEVENT
END:VCALENDAR
