BEGIN:VCALENDAR
VERSION:2.0
PRODID:-//Plone.org//NONSGML plone.app.event//EN
X-WR-TIMEZONE:Europe/Berlin
BEGIN:VEVENT
SUMMARY:A resource not to be wasted: towards a common policy for the integ
 rity of the seabed in the Mediterranean Sea
DTSTART;TZID=GMT+0;VALUE=DATE-TIME:20201028T100000
DTEND;TZID=GMT+0;VALUE=DATE-TIME:20201028T130000
DTSTAMP;VALUE=DATE-TIME:20260423T035118Z
UID:ff72db6f74454b728c0c6182eaf04c4e@www.isprambiente.gov.it
CREATED;VALUE=DATE-TIME:20201027T162405Z
DESCRIPTION:The objectives of the  HARMONY Project  are the protection of 
 marine biodiversity by assessing seabed integrity and the presence of noni
 ndigenous species (NIS) in the Italo-Maltese cross-border area\, promoting
  the development of coordinated strategies and shared decision making proc
 esses.
LAST-MODIFIED;VALUE=DATE-TIME:20210125T142202Z
LOCATION:online event
URL:https://www.isprambiente.gov.it/en/archive/news-and-other-events/ispra
 -news/2020/10/a-resource-not-to-be-wasted-towards-a-common-policy-for-the-
 integrity-of-the-seabed-in-the-mediterranean-sea
END:VEVENT
END:VCALENDAR
