BEGIN:VCALENDAR
VERSION:2.0
PRODID:-//Plone.org//NONSGML plone.app.event//EN
X-WR-TIMEZONE:Europe/Berlin
BEGIN:VEVENT
SUMMARY:The landscape as a driving force for the development of a differen
 t society twenty years after the European Landscape Convention
DTSTART;TZID=GMT+0;VALUE=DATE-TIME:20201020T093000
DTEND;TZID=GMT+0;VALUE=DATE-TIME:20201020T183000
DTSTAMP;VALUE=DATE-TIME:20260421T081627Z
UID:d0c850432a574401a99120653bf61244@www.isprambiente.gov.it
CREATED;VALUE=DATE-TIME:20201015T081052Z
DESCRIPTION:The event \, after20 years after the European Landscape Conven
 tion\, aims to analyze the reflections of sector experts. The European Lan
 dscape Convention was adopted by the Committee of Ministers of the Council
  of Europe in Strasbourg in July 2000 and was opened for signature by the 
 member states in Florence on 20 October 2000. The Convention aims to promo
 te the  protection\, management and planning of landscapes and strengthen
  European cooperation
LAST-MODIFIED;VALUE=DATE-TIME:20210125T142137Z
LOCATION:Streaming online
URL:https://www.isprambiente.gov.it/en/archive/news-and-other-events/ispra
 -news/2020/10/the-landscape-as-a-driving-force-for-the-development-of-a-di
 fferent-society-twenty-years-after-the-european-landscape-convention
END:VEVENT
END:VCALENDAR
