BEGIN:VCALENDAR
VERSION:2.0
PRODID:-//Plone.org//NONSGML plone.app.event//EN
X-WR-TIMEZONE:Europe/Berlin
BEGIN:VEVENT
SUMMARY:Harmony Project - "Laboratory of Co-design for proposals and measu
 res for the PAF Nature 200"
DTSTART;TZID=GMT+0;VALUE=DATE-TIME:20201117T110000
DTEND;TZID=GMT+0;VALUE=DATE-TIME:20201117T130000
DTSTAMP;VALUE=DATE-TIME:20260423T100430Z
UID:00c1f1bb9005410dbb2b03da23353a5c@www.isprambiente.gov.it
CREATED;VALUE=DATE-TIME:20201117T111050Z
DESCRIPTION:The initiative is implemented as part of the " Harmony " proje
 ct\, funded by the P.O. Italy-Malta 2014-2020\, whose objective is to defi
 ne coordinated and shared intervention strategies for the assessment of th
 e integrity of the seabed and the presence of invasive non-indigenous spec
 ies in the Italian-Maltese area\, through the promotion of inclusive decis
 ion-making processes participatory.    
LAST-MODIFIED;VALUE=DATE-TIME:20210128T123549Z
URL:https://www.isprambiente.gov.it/en/archive/news-and-other-events/ispra
 -news/2020/11/harmony-project-laboratory-of-co-design-for-proposals-and-me
 asures-for-the-paf-nature-2000
END:VEVENT
END:VCALENDAR
