BEGIN:VCALENDAR
VERSION:2.0
PRODID:-//Plone.org//NONSGML plone.app.event//EN
X-WR-TIMEZONE:Europe/Berlin
BEGIN:VEVENT
SUMMARY:World Soil Day 2020\, a Green Deal for the European soil
DTSTART;TZID=GMT+0;VALUE=DATE-TIME:20201204T110000
DTEND;TZID=GMT+0;VALUE=DATE-TIME:20201204T130000
DTSTAMP;VALUE=DATE-TIME:20260420T105353Z
UID:d1f94a79a73a425aa9af9f855e66aa65@www.isprambiente.gov.it
CREATED;VALUE=DATE-TIME:20201130T121929Z
DESCRIPTION:On the occasion of World Soil Day 2020 the partners of the Eu
 ropean project Soil4life\, co-financed by EU through the Life program\, wi
 ll organize an online webinar to debate on the soil consumption and conser
 vation\, considered one of the fundamental assets to contrast climate chan
 ge.
LAST-MODIFIED;VALUE=DATE-TIME:20210128T123648Z
LOCATION:Webinar
URL:https://www.isprambiente.gov.it/en/archive/news-and-other-events/ispra
 -news/2020/11/world-soil-day-2020-a-green-deal-for-the-european-soil
END:VEVENT
END:VCALENDAR
