BEGIN:VCALENDAR
VERSION:2.0
PRODID:-//Plone.org//NONSGML plone.app.event//EN
X-WR-TIMEZONE:Europe/Berlin
BEGIN:VEVENT
SUMMARY:The water and the challenge of circular economy
DTSTART;TZID=GMT+0;VALUE=DATE-TIME:20210128T110000
DTEND;TZID=GMT+0;VALUE=DATE-TIME:20210128T130000
DTSTAMP;VALUE=DATE-TIME:20260423T050447Z
UID:fdffc88a24e14c34b4430413dcc87e2b@www.isprambiente.gov.it
CREATED;VALUE=DATE-TIME:20210126T160842Z
DESCRIPTION:An Italian strategy for the management of sewage sludge The we
 binar will present the study on the sustainable management of sewage sludg
 e carried out in cooperation with associations and the main operators in t
 he sector.  The report examines the evolution of the water cycle in Italy 
 from the perspective of the circular economy\, considering the regulatory 
 and technological framework\, economics\, key aspects and critical issues 
 in the management of sewage sludge. It therefore formulates specific polic
 y proposals aimed at designing an overall economically and environmentally
  sustainable sludge management strategy.
LAST-MODIFIED;VALUE=DATE-TIME:20220120T085038Z
LOCATION:Webinar
URL:https://www.isprambiente.gov.it/en/archive/news-and-other-events/ispra
 -news/2021/01/the-idrych-and-the-challenge-of-circular-economy
END:VEVENT
END:VCALENDAR
