BEGIN:VCALENDAR
VERSION:2.0
PRODID:-//Plone.org//NONSGML plone.app.event//EN
X-WR-TIMEZONE:Europe/Berlin
BEGIN:VEVENT
SUMMARY:Workshop for the updating Marine Strategy Programme
DTSTART;TZID=GMT+0;VALUE=DATE-TIME:20210323T143000
DTEND;TZID=GMT+0;VALUE=DATE-TIME:20210323T173000
DTSTAMP;VALUE=DATE-TIME:20260419T194229Z
UID:60c1f0b9b2384fecb9e53193f957ca67@www.isprambiente.gov.it
CREATED;VALUE=DATE-TIME:20210315T154957Z
DESCRIPTION:The workshop\, organized by DG for the Sea and Coasts of the I
 talian Ministry of Ecological Transition in the whole of the CReIAMO Proje
 ct PA\, is aimed to launch the updating programme of the Marine Strategy m
 easures.
LAST-MODIFIED;VALUE=DATE-TIME:20220120T091031Z
URL:https://www.isprambiente.gov.it/en/archive/news-and-other-events/ispra
 -news/2021/03/workshop-for-the-updating-marine-strategy-programme
END:VEVENT
END:VCALENDAR
