BEGIN:VCALENDAR
VERSION:2.0
PRODID:-//Plone.org//NONSGML plone.app.event//EN
X-WR-TIMEZONE:Europe/Berlin
BEGIN:VEVENT
SUMMARY:GARR 2021 Conference. Sustainable / Digital. Data and technologies
  for the future
DTSTART;VALUE=DATE:20210607
DTEND;VALUE=DATE:20210617
DTSTAMP;VALUE=DATE-TIME:20260426T000656Z
UID:829acf77e2b44e49be37f6b61c348aef@www.isprambiente.gov.it
CREATED;VALUE=DATE-TIME:20210527T133152Z
DESCRIPTION:The main topic of this year's edition is digital sustainabilit
 y\, i.e. both the sustainable ways of developing technology and the models
  with which digital technologies can be used to produce positive impacts a
 nd effects on the environment\, society and economy.
LAST-MODIFIED;VALUE=DATE-TIME:20220120T092252Z
LOCATION:Online event
URL:https://www.isprambiente.gov.it/en/archive/news-and-other-events/ispra
 -news/2021/05/garr-2021-conference-sustainable-digital-data-and-technologi
 es-for-the-future
END:VEVENT
END:VCALENDAR
