BEGIN:VCALENDAR
VERSION:2.0
PRODID:-//Plone.org//NONSGML plone.app.event//EN
X-WR-TIMEZONE:Europe/Berlin
BEGIN:VEVENT
SUMMARY:Agreencoltura hi-tech supply chains for quality and adaptation to 
 climate change
DTSTART;TZID=GMT+0;VALUE=DATE-TIME:20210609T100000
DTEND;TZID=GMT+0;VALUE=DATE-TIME:20210609T133000
DTSTAMP;VALUE=DATE-TIME:20260423T125316Z
UID:17021860a6b84c37a4c7ce349e2ecbcc@www.isprambiente.gov.it
CATEGORIES:evidence
CREATED;VALUE=DATE-TIME:20210601T092025Z
DESCRIPTION:Earth Tech Expo  will be held in Florence from 13 to 16 Octobe
 r 2021. The “technological showcase” of the Next Generation Eu. The fi
 rst Expo of the "digital and ecological transition". Italian technological
  leadership on display with exhibitions\, conferences\, presentations\, li
 nks\, all the news from the Italian Space Agency\, research bodies\, unive
 rsities\, companies and companies\, spin offs\, start-ups\, regions and lo
 cal authorities in all sectors.
LAST-MODIFIED;VALUE=DATE-TIME:20220120T092547Z
LOCATION:Online event
URL:https://www.isprambiente.gov.it/en/archive/news-and-other-events/ispra
 -news/2021/06/agreencoltura-hi-tech-supply-chains
END:VEVENT
END:VCALENDAR
