BEGIN:VCALENDAR
VERSION:2.0
PRODID:-//Plone.org//NONSGML plone.app.event//EN
X-WR-TIMEZONE:Europe/Berlin
BEGIN:VEVENT
SUMMARY:Chamber of Deputies: ISPRA hearing on Recovery plan and Simplifica
 tion decree
DTSTART;TZID=GMT+0;VALUE=DATE-TIME:20210616T150000
DTEND;TZID=GMT+0;VALUE=DATE-TIME:20210616T163000
DTSTAMP;VALUE=DATE-TIME:20260423T125228Z
UID:e2648e3f1fee4bd08e67fa1dc6d4b2c5@www.isprambiente.gov.it
CREATED;VALUE=DATE-TIME:20210614T122627Z
DESCRIPTION:Wednesday at 2.30 pm hearing in the Commission for Constitutio
 nal Affairs and Environment for the examination of the decree-law containi
 ng governance of the National Recovery and Resilience Plan and first measu
 res to strengthen administrative structures and to speed up and streamline
  procedures.
LAST-MODIFIED;VALUE=DATE-TIME:20220120T092551Z
LOCATION:Online event
URL:https://www.isprambiente.gov.it/en/archive/news-and-other-events/ispra
 -news/2021/06/chamber-of-deputies-ispra-hearing-on-recovery-plan-and-simpl
 ification-decree
END:VEVENT
END:VCALENDAR
