BEGIN:VCALENDAR
VERSION:2.0
PRODID:-//Plone.org//NONSGML plone.app.event//EN
X-WR-TIMEZONE:Europe/Berlin
BEGIN:VEVENT
SUMMARY:Elements of environmental governance between State and Regions: SN
 PA a federal and federated network model
DTSTART;TZID=GMT+0;VALUE=DATE-TIME:20210617T150000
DTEND;TZID=GMT+0;VALUE=DATE-TIME:20210617T160000
DTSTAMP;VALUE=DATE-TIME:20260423T125358Z
UID:01b79289982f436c9c6a2ebc176a0a7d@www.isprambiente.gov.it
CREATED;VALUE=DATE-TIME:20210611T102002Z
DESCRIPTION:On Thursday 17 June 2021 at 3.00 pm\, the seminar "Elements of
  environmental governance between the State and the Regions: SNPA a federa
 l and federated network model" will be held on the Zoom platform by Stefan
 o Laporta\, President of ISPRA.  The event is promoted as part of the Euro
 pean Administrative Environmental Law training program of the PhD in Publi
 c\, Comparative and International Law. On the occasion of this meeting\, t
 he concrete dynamics of governance concerning the functioning of the Natio
 nal Environmental Protection System (SNPA)\, as a network administration m
 odel that presides over the protection of the environment\, will be explor
 ed.
LAST-MODIFIED;VALUE=DATE-TIME:20220120T092550Z
LOCATION:Online event
URL:https://www.isprambiente.gov.it/en/archive/news-and-other-events/ispra
 -news/2021/06/elements-of-environmental-governance-between-state-and-regio
 ns-snpa-a-federal-and-federated-network-model
END:VEVENT
END:VCALENDAR
