BEGIN:VCALENDAR
VERSION:2.0
PRODID:-//Plone.org//NONSGML plone.app.event//EN
X-WR-TIMEZONE:Europe/Berlin
BEGIN:VEVENT
SUMMARY:Forum online Focus: the Space and the Environment
DTSTART;TZID=GMT+0;VALUE=DATE-TIME:20210614T193000
DTEND;TZID=GMT+0;VALUE=DATE-TIME:20210614T203000
DTSTAMP;VALUE=DATE-TIME:20260423T125214Z
UID:512765fa31a246068af6ec90eb95be09@www.isprambiente.gov.it
CREATED;VALUE=DATE-TIME:20210607T084942Z
DESCRIPTION:The Rotary has adopted the environment as one of the priority 
 themes of its commitment and initiative. Space technologies and systems ar
 e a powerful enabling instrument for knowledge and monitoring of the terri
 tory and the environment for the most aware and incisive environmental sus
 tainability policies on a global and local scale.
LAST-MODIFIED;VALUE=DATE-TIME:20220120T092549Z
LOCATION:Online event
URL:https://www.isprambiente.gov.it/en/archive/news-and-other-events/ispra
 -news/2021/06/forum-online-focus-the-space-and-the-environment
END:VEVENT
END:VCALENDAR
