BEGIN:VCALENDAR
VERSION:2.0
PRODID:-//Plone.org//NONSGML plone.app.event//EN
X-WR-TIMEZONE:Europe/Berlin
BEGIN:VEVENT
SUMMARY:Greencity in Palermo
DTSTART;TZID=GMT+0;VALUE=DATE-TIME:20210625T143000
DTEND;TZID=GMT+0;VALUE=DATE-TIME:20210625T170000
DTSTAMP;VALUE=DATE-TIME:20260423T003659Z
UID:c957d0fab96248e69d8eefc97bd509cf@www.isprambiente.gov.it
CREATED;VALUE=DATE-TIME:20210622T091958Z
DESCRIPTION:In Palermo\, the second stage of Verdecittà's "journey" throu
 gh Italy\, the innovative project that promotes urban greenery to improve 
 the quality of life and the excellence of Made in Italy horticulture: the 
 initiative is funded by the Ministry for Policies food and forestry (MiPAA
 F)\, coordinated by CREA and organized by Padova Hall\, with the technical
 -scientific support of CONAF. In the Sicilian capital\, from 25 to 27 June
 \, an impressive installation curated by CONAF's expert technicians in Pia
 zza Castelnuovo will show how urban greenery can lend itself to multiple s
 olutions\, keeping together the quality and beauty of spaces\, agriculture
 \, aromatic plants.
LAST-MODIFIED;VALUE=DATE-TIME:20220120T092553Z
LOCATION:Online event
URL:https://www.isprambiente.gov.it/en/archive/news-and-other-events/ispra
 -news/2021/06/greencity-in-palermo
END:VEVENT
END:VCALENDAR
