BEGIN:VCALENDAR
VERSION:2.0
PRODID:-//Plone.org//NONSGML plone.app.event//EN
X-WR-TIMEZONE:Europe/Berlin
BEGIN:VEVENT
SUMMARY:PON Governance. ISPRA project: "Environmental statistics for cohes
 ion policies 2014-2020"
DTSTART;TZID=GMT+0;VALUE=DATE-TIME:20210623T153000
DTEND;TZID=GMT+0;VALUE=DATE-TIME:20210623T160000
DTSTAMP;VALUE=DATE-TIME:20260423T125220Z
UID:ad45d626ebb444f1bc39047639a15f84@www.isprambiente.gov.it
CREATED;VALUE=DATE-TIME:20210611T103326Z
DESCRIPTION:On 23 June\, as part of the 2021 PA Forum\, ISPRA is organizin
 g the webinar "PON Governance\, a stronger PA to contribute to recovery. I
 SPRA project:" Environmental statistics for cohesion policies 2014-2020 ".
LAST-MODIFIED;VALUE=DATE-TIME:20220120T092550Z
LOCATION:Online event
URL:https://www.isprambiente.gov.it/en/archive/news-and-other-events/ispra
 -news/2021/06/pon-governance-ispra-project-environmental-statistics-for-co
 hesion-policies-2014-2020
END:VEVENT
END:VCALENDAR
