BEGIN:VCALENDAR
VERSION:2.0
PRODID:-//Plone.org//NONSGML plone.app.event//EN
X-WR-TIMEZONE:Europe/Berlin
BEGIN:VEVENT
SUMMARY:Space research aimed at Environmental monitoring
DTSTART;TZID=GMT+0;VALUE=DATE-TIME:20210625T143000
DTEND;TZID=GMT+0;VALUE=DATE-TIME:20210625T170000
DTSTAMP;VALUE=DATE-TIME:20260423T125219Z
UID:a57beb6e8db94fa3b987fcd11a6996bf@www.isprambiente.gov.it
CREATED;VALUE=DATE-TIME:20210615T142734Z
DESCRIPTION:All4Climate - Italy 2021: Amici della Terra and Environmental 
 Defense Fund present the web conference on new technological tools for mon
 itoring methane emissions from space
LAST-MODIFIED;VALUE=DATE-TIME:20220120T092552Z
LOCATION:Evento online
URL:https://www.isprambiente.gov.it/en/archive/news-and-other-events/ispra
 -news/2021/06/space-research-aimed-at-environmental-monitoring
END:VEVENT
END:VCALENDAR
