BEGIN:VCALENDAR
VERSION:2.0
PRODID:-//Plone.org//NONSGML plone.app.event//EN
X-WR-TIMEZONE:Europe/Berlin
BEGIN:VEVENT
SUMMARY:Study day of integral ecology
DTSTART;TZID=GMT+0;VALUE=DATE-TIME:20210630T093000
DTEND;TZID=GMT+0;VALUE=DATE-TIME:20210630T120000
DTSTAMP;VALUE=DATE-TIME:20260423T133853Z
UID:65af931805b442f9aed388a30be779c6@www.isprambiente.gov.it
CREATED;VALUE=DATE-TIME:20210621T092155Z
DESCRIPTION:Starting from the 2021-2022 academic year\, the Faculty of  Ph
 ilosophy of the Pontifical Antonianum University  will promote the philoso
 phy course with a specialization in integral ecology.
LAST-MODIFIED;VALUE=DATE-TIME:20220120T092554Z
LOCATION:Online event
URL:https://www.isprambiente.gov.it/en/archive/news-and-other-events/ispra
 -news/2021/06/study-day-of-integral-ecology
END:VEVENT
END:VCALENDAR
