BEGIN:VCALENDAR
VERSION:2.0
PRODID:-//Plone.org//NONSGML plone.app.event//EN
X-WR-TIMEZONE:Europe/Berlin
BEGIN:VEVENT
SUMMARY:Final conference GRRinPORT project
DTSTART;TZID=GMT+0;VALUE=DATE-TIME:20210709T090000
DTEND;TZID=GMT+0;VALUE=DATE-TIME:20210709T133000
DTSTAMP;VALUE=DATE-TIME:20260424T132926Z
UID:f1638e488a514d71a1d1a40829b9b416@www.isprambiente.gov.it
CREATED;VALUE=DATE-TIME:20210707T083738Z
DESCRIPTION:During the day\, action plans and results will be presented th
 at will help ship owners and port facility managers towards an eco-sustain
 able approach. Launched in April 2018\, the project was tested in the four
  ports of Cagliari\, Livorno\, Bastia and Ajaccio.
LAST-MODIFIED;VALUE=DATE-TIME:20220120T094104Z
LOCATION:Online event
URL:https://www.isprambiente.gov.it/en/archive/news-and-other-events/ispra
 -news/2021/07/final-conference-grrinport-project
END:VEVENT
END:VCALENDAR
