BEGIN:VCALENDAR
VERSION:2.0
PRODID:-//Plone.org//NONSGML plone.app.event//EN
X-WR-TIMEZONE:Europe/Berlin
BEGIN:VEVENT
SUMMARY:Days of Hydrology 2021
DTSTART;VALUE=DATE:20210930
DTEND;VALUE=DATE:20211002
DTSTAMP;VALUE=DATE-TIME:20260423T045750Z
UID:fc674a5678c842dba0ba43e880b872a8@www.isprambiente.gov.it
CREATED;VALUE=DATE-TIME:20210929T083723Z
DESCRIPTION:The days will be dedicated to the study of hydrological phenom
 ena in relation to the protection and safeguarding of the territory. ISPRA
  will be present with two oral contributions on the national hydrological 
 balance and the availability of national water resources.
LAST-MODIFIED;VALUE=DATE-TIME:20220120T095300Z
LOCATION:Naples
URL:https://www.isprambiente.gov.it/en/archive/news-and-other-events/ispra
 -news/2021/09/days-of-hydrology-2021
END:VEVENT
END:VCALENDAR
