BEGIN:VCALENDAR
VERSION:2.0
PRODID:-//Plone.org//NONSGML plone.app.event//EN
X-WR-TIMEZONE:Europe/Berlin
BEGIN:VEVENT
SUMMARY:Progetto H2020 EuroSea conference
DTSTART;TZID=GMT+0;VALUE=DATE-TIME:20211125T153000
DTEND;TZID=GMT+0;VALUE=DATE-TIME:20211125T173000
DTSTAMP;VALUE=DATE-TIME:20260422T211614Z
UID:e74fe2968552444ca12cb06a6cfea5c6@www.isprambiente.gov.it
CREATED;VALUE=DATE-TIME:20211120T085604Z
DESCRIPTION:Funded by the European Commission's research and innovation pr
 ogram\, the  EuroSea Project \, of which ISPRA is a partner\, supports the
  flagship initiative of the G7 countries on the future of seas and oceans.
LAST-MODIFIED;VALUE=DATE-TIME:20220120T101144Z
LOCATION:Online event
URL:https://www.isprambiente.gov.it/en/archive/news-and-other-events/ispra
 -news/2021/11/progetto-h2020-eurosea-conference
END:VEVENT
END:VCALENDAR
