BEGIN:VCALENDAR
VERSION:2.0
PRODID:-//Plone.org//NONSGML plone.app.event//EN
X-WR-TIMEZONE:Europe/Berlin
BEGIN:VEVENT
SUMMARY:Conference "Gaseous polluting emissions of industrial origin - The
  management of emissions from industrial plants for restarting"
DTSTART;TZID=GMT+0;VALUE=DATE-TIME:20211209T084500
DTEND;TZID=GMT+0;VALUE=DATE-TIME:20211217T123000
DTSTAMP;VALUE=DATE-TIME:20260426T021611Z
UID:ed2a4c3b867c4d8b9b95299c40fc5aa3@www.isprambiente.gov.it
CREATED;VALUE=DATE-TIME:20211206T093522Z
DESCRIPTION:The conference is organized by ISPRA\, in collaboration with R
 SE S.p.A - Research on the Energy System\, ACCREDIA\, UNI and UNICHIM. The
  initiative is continuing the positive experience already had in 2020 and 
 which recorded a high participation. The program of this edition takes pla
 ce over four days (9-10-16-17 December 2021) with morning sessions about 4
  hours each other
LAST-MODIFIED;VALUE=DATE-TIME:20220120T101907Z
LOCATION:Webinar conference
URL:https://www.isprambiente.gov.it/en/archive/news-and-other-events/ispra
 -news/2021/12/conference-gaseous-polluting-emissions-of-industrial-origin-
 the-management-of-emissions-from-industrial-plants-for-restarting
END:VEVENT
END:VCALENDAR
