BEGIN:VCALENDAR
VERSION:2.0
PRODID:-//Plone.org//NONSGML plone.app.event//EN
X-WR-TIMEZONE:Europe/Berlin
BEGIN:VEVENT
SUMMARY:Textile waste\, a lighthouse of transition?
DTSTART;TZID=GMT+0;VALUE=DATE-TIME:20211206T120000
DTEND;TZID=GMT+0;VALUE=DATE-TIME:20211206T130000
DTSTAMP;VALUE=DATE-TIME:20260426T033200Z
UID:1e88b53af97840059c425273789985ac@www.isprambiente.gov.it
CREATED;VALUE=DATE-TIME:20211203T092558Z
DESCRIPTION:Starting from January 1st\, the separate collection of used cl
 othes will become mandatory throughout the national territory: are we read
 y to face this small revolution?  How much textile material do our fashion
  districts recycle? These will be the topics covered on December 6 during 
 the webinar organized by Ricicla TV.
LAST-MODIFIED;VALUE=DATE-TIME:20220120T101908Z
LOCATION:Online event
URL:https://www.isprambiente.gov.it/en/archive/news-and-other-events/ispra
 -news/2021/12/textile-waste-a-lighthouse-of-transition
END:VEVENT
END:VCALENDAR
